BEGIN:VCALENDAR
PRODID:-//MME-Internettechnik//WebPresenter//DE
VERSION:1.0
BEGIN:VEVENT
DTSTART:20270518T030000Z
DTEND:20270518T030000Z
DESCRIPTION;ENCODING=QUOTED-PRINTABLE:Pfingstferien NRW (keine OGS)=0D=0A=0D=0A
SUMMARY;ENCODING=QUOTED-PRINTABLE:Pfingstferien NRW (keine OGS)
STATUS:NEEDS ACTION
END:VEVENT
END:VCALENDAR
