BEGIN:VCALENDAR
PRODID:-//MME-Internettechnik//WebPresenter//DE
VERSION:1.0
BEGIN:VEVENT
DTSTART:20270322T030000Z
DTEND:20270403T030000Z
DESCRIPTION;ENCODING=QUOTED-PRINTABLE:Osterferien NRW=0D=0A=0D=0A
SUMMARY;ENCODING=QUOTED-PRINTABLE:Osterferien NRW
STATUS:NEEDS ACTION
END:VEVENT
END:VCALENDAR
