BEGIN:VCALENDAR
PRODID:-//MME-Internettechnik//WebPresenter//DE
VERSION:1.0
BEGIN:VEVENT
DTSTART:20260714T030000Z
DTEND:20260714T030000Z
DESCRIPTION;ENCODING=QUOTED-PRINTABLE:Schuhof=0D=0A=0D=0AEiswagen (Eis für alle Schülerinnen und Schüler)=0D=0A=0D=0A
SUMMARY;ENCODING=QUOTED-PRINTABLE:Eiswagen (Eis für alle Schülerinnen und Schüler)
STATUS:NEEDS ACTION
END:VEVENT
END:VCALENDAR
