BEGIN:VCALENDAR
PRODID:-//MME-Internettechnik//WebPresenter//DE
VERSION:1.0
BEGIN:VEVENT
DTSTART:20260623T030000Z
DTEND:20260623T030000Z
DESCRIPTION;ENCODING=QUOTED-PRINTABLE:Fahrradprüfung Jahrgang 4=0D=0A=0D=0A
SUMMARY;ENCODING=QUOTED-PRINTABLE:Fahrradprüfung Jahrgang 4
STATUS:NEEDS ACTION
END:VEVENT
END:VCALENDAR
