BEGIN:VCALENDAR
PRODID:-//MME-Internettechnik//WebPresenter//DE
VERSION:1.0
BEGIN:VEVENT
DTSTART:20260519T064500Z
DTEND:20260519T083000Z
DESCRIPTION;ENCODING=QUOTED-PRINTABLE:Schule=0D=0A=0D=0ASchnupperunterricht für die zukünftigen Erstklässler/innen (SJ26/27)=0D=0A=0D=0A
SUMMARY;ENCODING=QUOTED-PRINTABLE:Schnupperunterricht für die zukünftigen Erstklässler/innen (SJ26/27)
STATUS:NEEDS ACTION
END:VEVENT
END:VCALENDAR
