BEGIN:VCALENDAR
PRODID:-//MME-Internettechnik//WebPresenter//DE
VERSION:1.0
BEGIN:VEVENT
DTSTART:20260507T030000Z
DTEND:20260507T030000Z
DESCRIPTION;ENCODING=QUOTED-PRINTABLE:VERA 3- Rechtschreibung (Jahrgang 3)=0D=0A=0D=0A
SUMMARY;ENCODING=QUOTED-PRINTABLE:VERA 3- Rechtschreibung (Jahrgang 3)
STATUS:NEEDS ACTION
END:VEVENT
END:VCALENDAR
